Package: qckitfastq Version: 1.22.0 Command: /home/biocbuild/R/R/bin/R CMD build --keep-empty-dirs --no-resave-data qckitfastq StartedAt: 2025-01-31 01:54:58 -0000 (Fri, 31 Jan 2025) EndedAt: 2025-01-31 01:55:46 -0000 (Fri, 31 Jan 2025) EllapsedTime: 48.1 seconds RetCode: 0 Status: OK PackageFile: qckitfastq_1.22.0.tar.gz PackageFileSize: 968 KiB