Package: qckitfastq Version: 1.22.0 Command: F:\biocbuild\bbs-3.20-bioc\R\bin\R.exe CMD INSTALL qckitfastq StartedAt: 2025-03-31 15:33:37 -0400 (Mon, 31 Mar 2025) EndedAt: 2025-03-31 15:34:25 -0400 (Mon, 31 Mar 2025) EllapsedTime: 47.6 seconds RetCode: 0 Status: OK