Package: qckitfastq Version: 1.22.0 Command: chmod a+r qckitfastq -R && F:\biocbuild\bbs-3.20-bioc\R\bin\R.exe CMD build --keep-empty-dirs --no-resave-data qckitfastq StartedAt: 2025-03-31 21:11:26 -0400 (Mon, 31 Mar 2025) EndedAt: 2025-03-31 21:12:38 -0400 (Mon, 31 Mar 2025) EllapsedTime: 72.2 seconds RetCode: 1 Status: ERROR PackageFile: None PackageFileSize: NA