Package: qckitfastq Version: 1.22.0 Command: /home/biocbuild/bbs-3.20-bioc/R/bin/R CMD INSTALL qckitfastq StartedAt: 2025-01-30 15:10:36 -0500 (Thu, 30 Jan 2025) EndedAt: 2025-01-30 15:10:53 -0500 (Thu, 30 Jan 2025) EllapsedTime: 17.5 seconds RetCode: 0 Status: OK