Package: qckitfastq Version: 1.22.0 Command: /home/biocbuild/bbs-3.20-bioc/R/bin/R CMD build --keep-empty-dirs --no-resave-data --md5 qckitfastq StartedAt: 2025-02-03 18:49:49 -0500 (Mon, 03 Feb 2025) EndedAt: 2025-02-03 18:50:24 -0500 (Mon, 03 Feb 2025) EllapsedTime: 35.0 seconds RetCode: 0 Status: OK PackageFile: qckitfastq_1.22.0.tar.gz PackageFileSize: 982 KiB