Package: qPLEXanalyzer Version: 1.24.0 Command: /home/biocbuild/R/R/bin/R CMD INSTALL qPLEXanalyzer StartedAt: 2025-03-31 20:49:16 -0000 (Mon, 31 Mar 2025) EndedAt: 2025-03-31 20:50:05 -0000 (Mon, 31 Mar 2025) EllapsedTime: 49.0 seconds RetCode: 0 Status: OK