Package: qPLEXanalyzer Version: 1.24.0 Command: F:\biocbuild\bbs-3.20-bioc\R\bin\R.exe CMD check --no-multiarch --install=check:qPLEXanalyzer.install-out.txt --library=F:\biocbuild\bbs-3.20-bioc\R\library --no-vignettes --timings qPLEXanalyzer_1.24.0.tar.gz StartedAt: 2025-01-28 04:53:12 -0500 (Tue, 28 Jan 2025) EndedAt: 2025-01-28 04:58:43 -0500 (Tue, 28 Jan 2025) EllapsedTime: 331.6 seconds RetCode: 0 Status: OK CheckDir: qPLEXanalyzer.Rcheck Warnings: 0