Package: qPLEXanalyzer Version: 1.24.0 Command: /Library/Frameworks/R.framework/Resources/bin/R CMD check --install=check:qPLEXanalyzer.install-out.txt --library=/Library/Frameworks/R.framework/Resources/library --no-vignettes --timings qPLEXanalyzer_1.24.0.tar.gz StartedAt: 2025-01-28 08:37:28 -0500 (Tue, 28 Jan 2025) EndedAt: 2025-01-28 08:46:46 -0500 (Tue, 28 Jan 2025) EllapsedTime: 558.7 seconds RetCode: 0 Status: OK CheckDir: qPLEXanalyzer.Rcheck Warnings: 0