Package: qPLEXanalyzer Version: 1.24.0 Command: /Library/Frameworks/R.framework/Resources/bin/R CMD build --keep-empty-dirs --no-resave-data qPLEXanalyzer StartedAt: 2025-01-27 21:44:30 -0500 (Mon, 27 Jan 2025) EndedAt: 2025-01-27 21:46:53 -0500 (Mon, 27 Jan 2025) EllapsedTime: 142.6 seconds RetCode: 0 Status: OK PackageFile: qPLEXanalyzer_1.24.0.tar.gz PackageFileSize: 3.614 MiB