Package: qPLEXanalyzer Version: 1.24.0 Command: /Library/Frameworks/R.framework/Resources/bin/R CMD INSTALL qPLEXanalyzer StartedAt: 2025-01-27 17:01:59 -0500 (Mon, 27 Jan 2025) EndedAt: 2025-01-27 17:02:45 -0500 (Mon, 27 Jan 2025) EllapsedTime: 45.5 seconds RetCode: 0 Status: OK