Package: qPLEXanalyzer Version: 1.24.0 Command: /Library/Frameworks/R.framework/Resources/bin/R CMD check --install=check:qPLEXanalyzer.install-out.txt --library=/Library/Frameworks/R.framework/Resources/library --no-vignettes --timings qPLEXanalyzer_1.24.0.tar.gz StartedAt: 2025-01-29 05:22:07 -0500 (Wed, 29 Jan 2025) EndedAt: 2025-01-29 05:27:17 -0500 (Wed, 29 Jan 2025) EllapsedTime: 310.2 seconds RetCode: 0 Status: OK CheckDir: qPLEXanalyzer.Rcheck Warnings: 0