Package: qPLEXanalyzer Version: 1.24.0 Command: /Library/Frameworks/R.framework/Resources/bin/R CMD build --keep-empty-dirs --no-resave-data qPLEXanalyzer StartedAt: 2025-04-01 05:34:54 -0400 (Tue, 01 Apr 2025) EndedAt: 2025-04-01 05:36:08 -0400 (Tue, 01 Apr 2025) EllapsedTime: 74.1 seconds RetCode: 0 Status: OK PackageFile: qPLEXanalyzer_1.24.0.tar.gz PackageFileSize: 3.619 MiB