Package: qPLEXanalyzer Version: 1.24.0 Command: rm -rf qPLEXanalyzer.buildbin-libdir && mkdir qPLEXanalyzer.buildbin-libdir && /Users/biocbuild/BBS/utils/build-universal.sh qPLEXanalyzer_1.24.0.tar.gz /Library/Frameworks/R.framework/Resources/bin/R qPLEXanalyzer.buildbin-libdir StartedAt: 2025-04-02 15:45:15 -0400 (Wed, 02 Apr 2025) EndedAt: 2025-04-02 15:46:05 -0400 (Wed, 02 Apr 2025) EllapsedTime: 49.9 seconds RetCode: 0 Status: OK PackageFile: qPLEXanalyzer_1.24.0.tgz PackageFileSize: 3.742 MiB