Package: pwalign Version: 1.2.0 Command: F:\biocbuild\bbs-3.20-bioc\R\bin\R.exe CMD INSTALL pwalign StartedAt: 2025-03-31 15:40:33 -0400 (Mon, 31 Mar 2025) EndedAt: 2025-03-31 15:41:30 -0400 (Mon, 31 Mar 2025) EllapsedTime: 56.9 seconds RetCode: 0 Status: OK