Package: pwalign Version: 1.2.0 Command: rm -rf pwalign.buildbin-libdir && mkdir pwalign.buildbin-libdir && F:\biocbuild\bbs-3.20-bioc\R\bin\R.exe CMD INSTALL --build --library=pwalign.buildbin-libdir pwalign_1.2.0.tar.gz StartedAt: 2025-01-31 09:19:56 -0500 (Fri, 31 Jan 2025) EndedAt: 2025-01-31 09:20:49 -0500 (Fri, 31 Jan 2025) EllapsedTime: 53.0 seconds RetCode: 0 Status: OK PackageFile: pwalign_1.2.0.zip PackageFileSize: 753.9 KiB