Package: pwalign Version: 1.2.0 Command: /home/biocbuild/bbs-3.20-bioc/R/bin/R CMD build --keep-empty-dirs --no-resave-data --md5 pwalign StartedAt: 2025-03-31 18:38:02 -0400 (Mon, 31 Mar 2025) EndedAt: 2025-03-31 18:38:55 -0400 (Mon, 31 Mar 2025) EllapsedTime: 53.1 seconds RetCode: 0 Status: OK PackageFile: pwalign_1.2.0.tar.gz PackageFileSize: 347.6 KiB