Package: pwalign Version: 1.2.0 Command: /Library/Frameworks/R.framework/Resources/bin/R CMD build --keep-empty-dirs --no-resave-data pwalign StartedAt: 2025-01-30 22:00:13 -0500 (Thu, 30 Jan 2025) EndedAt: 2025-01-30 22:02:09 -0500 (Thu, 30 Jan 2025) EllapsedTime: 116.0 seconds RetCode: 0 Status: OK PackageFile: pwalign_1.2.0.tar.gz PackageFileSize: 346.2 KiB