Package: pwalign Version: 1.2.0 Command: rm -rf pwalign.buildbin-libdir && mkdir pwalign.buildbin-libdir && /Users/biocbuild/BBS/utils/build-universal.sh pwalign_1.2.0.tar.gz /Library/Frameworks/R.framework/Resources/bin/R pwalign.buildbin-libdir StartedAt: 2025-01-31 13:25:54 -0500 (Fri, 31 Jan 2025) EndedAt: 2025-01-31 13:26:33 -0500 (Fri, 31 Jan 2025) EllapsedTime: 39.2 seconds RetCode: 0 Status: OK PackageFile: pwalign_1.2.0.tgz PackageFileSize: 758 KiB