Package: pwalign Version: 1.2.0 Command: rm -rf pwalign.buildbin-libdir && mkdir pwalign.buildbin-libdir && /Users/biocbuild/BBS/utils/build-universal.sh pwalign_1.2.0.tar.gz /Library/Frameworks/R.framework/Resources/bin/R pwalign.buildbin-libdir StartedAt: 2025-04-02 15:44:22 -0400 (Wed, 02 Apr 2025) EndedAt: 2025-04-02 15:44:44 -0400 (Wed, 02 Apr 2025) EllapsedTime: 21.6 seconds RetCode: 0 Status: OK PackageFile: pwalign_1.2.0.tgz PackageFileSize: 754.7 KiB