Package: pvca Version: 1.46.0 Command: /home/biocbuild/R/R/bin/R CMD INSTALL pvca StartedAt: 2025-02-03 20:33:36 -0000 (Mon, 03 Feb 2025) EndedAt: 2025-02-03 20:33:49 -0000 (Mon, 03 Feb 2025) EllapsedTime: 12.2 seconds RetCode: 0 Status: OK