Package: pvca Version: 1.46.0 Command: /home/biocbuild/R/R/bin/R CMD build --keep-empty-dirs --no-resave-data pvca StartedAt: 2025-02-04 01:59:29 -0000 (Tue, 04 Feb 2025) EndedAt: 2025-02-04 01:59:54 -0000 (Tue, 04 Feb 2025) EllapsedTime: 25.0 seconds RetCode: 0 Status: OK PackageFile: pvca_1.46.0.tar.gz PackageFileSize: 212.7 KiB