Package: pvca Version: 1.46.0 Command: rm -rf pvca.buildbin-libdir && mkdir pvca.buildbin-libdir && F:\biocbuild\bbs-3.20-bioc\R\bin\R.exe CMD INSTALL --build --library=pvca.buildbin-libdir pvca_1.46.0.tar.gz StartedAt: 2025-01-28 08:51:43 -0500 (Tue, 28 Jan 2025) EndedAt: 2025-01-28 08:51:57 -0500 (Tue, 28 Jan 2025) EllapsedTime: 13.9 seconds RetCode: 0 Status: OK PackageFile: pvca_1.46.0.zip PackageFileSize: 118.8 KiB