Package: pvca Version: 1.46.0 Command: /Library/Frameworks/R.framework/Resources/bin/R CMD build --keep-empty-dirs --no-resave-data pvca StartedAt: 2025-01-28 05:44:50 -0500 (Tue, 28 Jan 2025) EndedAt: 2025-01-28 05:45:15 -0500 (Tue, 28 Jan 2025) EllapsedTime: 25.2 seconds RetCode: 0 Status: OK PackageFile: pvca_1.46.0.tar.gz PackageFileSize: 217.3 KiB