Package: pvca Version: 1.46.0 Command: rm -rf pvca.buildbin-libdir && mkdir pvca.buildbin-libdir && /Users/biocbuild/BBS/utils/build-universal.sh pvca_1.46.0.tar.gz /Library/Frameworks/R.framework/Resources/bin/R pvca.buildbin-libdir StartedAt: 2025-01-29 16:00:54 -0500 (Wed, 29 Jan 2025) EndedAt: 2025-01-29 16:01:06 -0500 (Wed, 29 Jan 2025) EllapsedTime: 12.5 seconds RetCode: 0 Status: OK PackageFile: pvca_1.46.0.tgz PackageFileSize: 224.3 KiB