Package: pvac Version: 1.54.0 Command: /home/biocbuild/bbs-3.20-bioc/R/bin/R CMD build --keep-empty-dirs --no-resave-data --md5 pvac StartedAt: 2025-02-03 18:49:18 -0500 (Mon, 03 Feb 2025) EndedAt: 2025-02-03 18:50:00 -0500 (Mon, 03 Feb 2025) EllapsedTime: 42.0 seconds RetCode: 0 Status: OK PackageFile: pvac_1.54.0.tar.gz PackageFileSize: 259.6 KiB