Package: pvac Version: 1.54.0 Command: /Library/Frameworks/R.framework/Resources/bin/R CMD build --keep-empty-dirs --no-resave-data pvac StartedAt: 2025-02-03 21:26:49 -0500 (Mon, 03 Feb 2025) EndedAt: 2025-02-03 21:28:21 -0500 (Mon, 03 Feb 2025) EllapsedTime: 92.5 seconds RetCode: 0 Status: OK PackageFile: pvac_1.54.0.tar.gz PackageFileSize: 258.3 KiB