Package: pvac Version: 1.54.0 Command: /Library/Frameworks/R.framework/Resources/bin/R CMD INSTALL pvac StartedAt: 2025-02-03 15:15:32 -0500 (Mon, 03 Feb 2025) EndedAt: 2025-02-03 15:15:35 -0500 (Mon, 03 Feb 2025) EllapsedTime: 3.5 seconds RetCode: 0 Status: OK