Package: pvac Version: 1.54.0 Command: rm -rf pvac.buildbin-libdir && mkdir pvac.buildbin-libdir && /Users/biocbuild/BBS/utils/build-universal.sh pvac_1.54.0.tar.gz /Library/Frameworks/R.framework/Resources/bin/R pvac.buildbin-libdir StartedAt: 2025-02-05 17:13:43 -0500 (Wed, 05 Feb 2025) EndedAt: 2025-02-05 17:13:48 -0500 (Wed, 05 Feb 2025) EllapsedTime: 5.6 seconds RetCode: 0 Status: OK PackageFile: pvac_1.54.0.tgz PackageFileSize: 253.6 KiB