Package: puma Version: 3.48.0 Command: rm -rf puma.buildbin-libdir && mkdir puma.buildbin-libdir && F:\biocbuild\bbs-3.20-bioc\R\bin\R.exe CMD INSTALL --build --library=puma.buildbin-libdir puma_3.48.0.tar.gz StartedAt: 2025-01-28 08:51:39 -0500 (Tue, 28 Jan 2025) EndedAt: 2025-01-28 08:53:03 -0500 (Tue, 28 Jan 2025) EllapsedTime: 84.6 seconds RetCode: 0 Status: OK PackageFile: puma_3.48.0.zip PackageFileSize: 3.901 MiB