Package: puma Version: 3.48.0 Command: /home/biocbuild/bbs-3.20-bioc/R/bin/R CMD check --install=check:puma.install-out.txt --library=/home/biocbuild/bbs-3.20-bioc/R/site-library --timings puma_3.48.0.tar.gz StartedAt: 2025-04-01 01:11:27 -0400 (Tue, 01 Apr 2025) EndedAt: 2025-04-01 01:17:22 -0400 (Tue, 01 Apr 2025) EllapsedTime: 355.3 seconds RetCode: 0 Status: OK CheckDir: puma.Rcheck Warnings: 0