Package: ptairMS Version: 1.14.0 Command: /Library/Frameworks/R.framework/Resources/bin/R CMD build --keep-empty-dirs --no-resave-data ptairMS StartedAt: 2025-01-27 21:41:27 -0500 (Mon, 27 Jan 2025) EndedAt: 2025-01-27 21:48:00 -0500 (Mon, 27 Jan 2025) EllapsedTime: 393.0 seconds RetCode: 0 Status: OK PackageFile: ptairMS_1.14.0.tar.gz PackageFileSize: 3.356 MiB