Package: ptairMS Version: 1.14.0 Command: rm -rf ptairMS.buildbin-libdir && mkdir ptairMS.buildbin-libdir && /Users/biocbuild/BBS/utils/build-universal.sh ptairMS_1.14.0.tar.gz /Library/Frameworks/R.framework/Resources/bin/R ptairMS.buildbin-libdir StartedAt: 2025-01-28 14:11:04 -0500 (Tue, 28 Jan 2025) EndedAt: 2025-01-28 14:12:45 -0500 (Tue, 28 Jan 2025) EllapsedTime: 100.2 seconds RetCode: 0 Status: OK PackageFile: ptairMS_1.14.0.tgz PackageFileSize: 3.435 MiB