Package: psygenet2r Version: 1.37.1 Command: /Library/Frameworks/R.framework/Resources/bin/R CMD check --install=check:psygenet2r.install-out.txt --library=/Library/Frameworks/R.framework/Resources/library --no-vignettes --timings psygenet2r_1.37.1.tar.gz StartedAt: 2024-10-13 23:33:41 -0400 (Sun, 13 Oct 2024) EndedAt: 2024-10-13 23:36:41 -0400 (Sun, 13 Oct 2024) EllapsedTime: 180.1 seconds RetCode: 0 Status: OK CheckDir: psygenet2r.Rcheck Warnings: 0