Package: psichomics Version: 1.32.0 Command: chmod a+r psichomics -R && F:\biocbuild\bbs-3.20-bioc\R\bin\R.exe CMD build --keep-empty-dirs --no-resave-data psichomics StartedAt: 2025-02-03 21:23:32 -0500 (Mon, 03 Feb 2025) EndedAt: 2025-02-03 21:27:30 -0500 (Mon, 03 Feb 2025) EllapsedTime: 238.9 seconds RetCode: 0 Status: OK PackageFile: psichomics_1.32.0.tar.gz PackageFileSize: 6.042 MiB