Package: psichomics Version: 1.32.0 Command: /Library/Frameworks/R.framework/Resources/bin/R CMD build --keep-empty-dirs --no-resave-data psichomics StartedAt: 2025-01-28 05:42:23 -0500 (Tue, 28 Jan 2025) EndedAt: 2025-01-28 05:44:43 -0500 (Tue, 28 Jan 2025) EllapsedTime: 140.3 seconds RetCode: 0 Status: OK PackageFile: psichomics_1.32.0.tar.gz PackageFileSize: 6.124 MiB