Package: proteinProfiles Version: 1.46.0 Command: /Library/Frameworks/R.framework/Resources/bin/R CMD INSTALL proteinProfiles StartedAt: 2025-01-30 15:06:10 -0500 (Thu, 30 Jan 2025) EndedAt: 2025-01-30 15:06:12 -0500 (Thu, 30 Jan 2025) EllapsedTime: 2.1 seconds RetCode: 0 Status: OK