Package: proteinProfiles Version: 1.46.0 Command: /Library/Frameworks/R.framework/Resources/bin/R CMD check --install=check:proteinProfiles.install-out.txt --library=/Library/Frameworks/R.framework/Resources/library --no-vignettes --timings proteinProfiles_1.46.0.tar.gz StartedAt: 2025-02-01 05:22:04 -0500 (Sat, 01 Feb 2025) EndedAt: 2025-02-01 05:22:27 -0500 (Sat, 01 Feb 2025) EllapsedTime: 23.8 seconds RetCode: 0 Status: OK CheckDir: proteinProfiles.Rcheck Warnings: 0