Package: proteinProfiles Version: 1.46.0 Command: rm -rf proteinProfiles.buildbin-libdir && mkdir proteinProfiles.buildbin-libdir && /Users/biocbuild/BBS/utils/build-universal.sh proteinProfiles_1.46.0.tar.gz /Library/Frameworks/R.framework/Resources/bin/R proteinProfiles.buildbin-libdir StartedAt: 2025-02-01 16:17:20 -0500 (Sat, 01 Feb 2025) EndedAt: 2025-02-01 16:17:23 -0500 (Sat, 01 Feb 2025) EllapsedTime: 3.2 seconds RetCode: 0 Status: OK PackageFile: proteinProfiles_1.46.0.tgz PackageFileSize: 402.2 KiB