Package: projectR Version: 1.22.0 Command: /home/biocbuild/R/R/bin/R CMD INSTALL projectR StartedAt: 2025-01-27 21:47:53 -0000 (Mon, 27 Jan 2025) EndedAt: 2025-01-27 21:48:14 -0000 (Mon, 27 Jan 2025) EllapsedTime: 20.8 seconds RetCode: 0 Status: OK