Package: projectR Version: 1.22.0 Command: /home/biocbuild/R/R/bin/R CMD build --keep-empty-dirs --no-resave-data projectR StartedAt: 2025-02-04 01:57:14 -0000 (Tue, 04 Feb 2025) EndedAt: 2025-02-04 01:58:27 -0000 (Tue, 04 Feb 2025) EllapsedTime: 73.1 seconds RetCode: 0 Status: OK PackageFile: projectR_1.22.0.tar.gz PackageFileSize: 5.215 MiB