Package: projectR Version: 1.22.0 Command: rm -rf projectR.buildbin-libdir && mkdir projectR.buildbin-libdir && F:\biocbuild\bbs-3.20-bioc\R\bin\R.exe CMD INSTALL --build --library=projectR.buildbin-libdir projectR_1.22.0.tar.gz StartedAt: 2025-02-04 09:13:09 -0500 (Tue, 04 Feb 2025) EndedAt: 2025-02-04 09:13:52 -0500 (Tue, 04 Feb 2025) EllapsedTime: 43.6 seconds RetCode: 0 Status: OK PackageFile: projectR_1.22.0.zip PackageFileSize: 6.602 MiB