Package: projectR Version: 1.22.0 Command: /Library/Frameworks/R.framework/Resources/bin/R CMD INSTALL projectR StartedAt: 2025-01-27 17:23:36 -0500 (Mon, 27 Jan 2025) EndedAt: 2025-01-27 17:23:56 -0500 (Mon, 27 Jan 2025) EllapsedTime: 20.7 seconds RetCode: 0 Status: OK