Package: projectR Version: 1.22.0 Command: /Library/Frameworks/R.framework/Resources/bin/R CMD check --install=check:projectR.install-out.txt --library=/Library/Frameworks/R.framework/Resources/library --no-vignettes --timings projectR_1.22.0.tar.gz StartedAt: 2025-01-29 05:03:43 -0500 (Wed, 29 Jan 2025) EndedAt: 2025-01-29 05:06:29 -0500 (Wed, 29 Jan 2025) EllapsedTime: 165.5 seconds RetCode: 0 Status: OK CheckDir: projectR.Rcheck Warnings: 0