Package: projectR Version: 1.22.0 Command: /Library/Frameworks/R.framework/Resources/bin/R CMD build --keep-empty-dirs --no-resave-data projectR StartedAt: 2025-04-01 05:25:06 -0400 (Tue, 01 Apr 2025) EndedAt: 2025-04-01 05:26:02 -0400 (Tue, 01 Apr 2025) EllapsedTime: 55.8 seconds RetCode: 0 Status: OK PackageFile: projectR_1.22.0.tar.gz PackageFileSize: 5.614 MiB