Package: progeny Version: 1.28.0 Command: chmod a+r progeny -R && F:\biocbuild\bbs-3.20-bioc\R\bin\R.exe CMD build --keep-empty-dirs --no-resave-data progeny StartedAt: 2025-01-27 21:11:41 -0500 (Mon, 27 Jan 2025) EndedAt: 2025-01-27 21:12:13 -0500 (Mon, 27 Jan 2025) EllapsedTime: 32.4 seconds RetCode: 0 Status: OK PackageFile: progeny_1.28.0.tar.gz PackageFileSize: 10.02 MiB