Package: profileplyr Version: 1.22.0 Command: /home/biocbuild/R/R/bin/R CMD check --install=check:profileplyr.install-out.txt --library=/home/biocbuild/R/R/site-library --no-vignettes --timings profileplyr_1.22.0.tar.gz StartedAt: 2025-04-01 09:34:21 -0000 (Tue, 01 Apr 2025) EndedAt: 2025-04-01 09:42:58 -0000 (Tue, 01 Apr 2025) EllapsedTime: 517.5 seconds RetCode: 0 Status: OK CheckDir: profileplyr.Rcheck Warnings: 0