Package: profileplyr Version: 1.22.0 Command: F:\biocbuild\bbs-3.20-bioc\R\bin\R.exe CMD INSTALL profileplyr StartedAt: 2025-01-27 16:44:06 -0500 (Mon, 27 Jan 2025) EndedAt: 2025-01-27 16:45:19 -0500 (Mon, 27 Jan 2025) EllapsedTime: 72.8 seconds RetCode: 0 Status: OK