Package: profileplyr Version: 1.22.0 Command: chmod a+r profileplyr -R && F:\biocbuild\bbs-3.20-bioc\R\bin\R.exe CMD build --keep-empty-dirs --no-resave-data profileplyr StartedAt: 2025-01-27 21:11:34 -0500 (Mon, 27 Jan 2025) EndedAt: 2025-01-27 21:15:34 -0500 (Mon, 27 Jan 2025) EllapsedTime: 240.0 seconds RetCode: 0 Status: OK PackageFile: profileplyr_1.22.0.tar.gz PackageFileSize: 2.291 MiB