Package: profileplyr Version: 1.22.0 Command: /Library/Frameworks/R.framework/Resources/bin/R CMD build --keep-empty-dirs --no-resave-data profileplyr StartedAt: 2025-03-31 21:07:34 -0400 (Mon, 31 Mar 2025) EndedAt: 2025-03-31 21:12:26 -0400 (Mon, 31 Mar 2025) EllapsedTime: 292.1 seconds RetCode: 0 Status: OK PackageFile: profileplyr_1.22.0.tar.gz PackageFileSize: 2.489 MiB