Package: profileScoreDist Version: 1.34.0 Command: /home/biocbuild/R/R/bin/R CMD check --install=check:profileScoreDist.install-out.txt --library=/home/biocbuild/R/R/site-library --no-vignettes --timings profileScoreDist_1.34.0.tar.gz StartedAt: 2025-02-11 09:19:59 -0000 (Tue, 11 Feb 2025) EndedAt: 2025-02-11 09:20:24 -0000 (Tue, 11 Feb 2025) EllapsedTime: 25.0 seconds RetCode: 0 Status: OK CheckDir: profileScoreDist.Rcheck Warnings: 0